BEGIN:VCALENDAR
METHOD:PUBLISH
PRODID:-//github.com/rianjs/ical.net//NONSGML ical.net 4.0//EN
VERSION:2.0
X-WR-CALNAME:Discovery Community School
BEGIN:VEVENT
CREATED:20250828T100756
DTEND:20260403T030000Z
DTSTAMP:20260423T162219Z
DTSTART:20260403T020000Z
LAST-MODIFIED:20250828T100756
SEQUENCE:0
STATUS:CONFIRMED
SUMMARY:Steering Meeting
TRANSP:TRANSPARENT
UID:143523@ourschoolpages.com
END:VEVENT
END:VCALENDAR
