BEGIN:VCALENDAR
METHOD:PUBLISH
PRODID:-//github.com/rianjs/ical.net//NONSGML ical.net 4.0//EN
VERSION:2.0
X-WR-CALNAME:Discovery Community School
BEGIN:VEVENT
CREATED:20250828T101046
DTEND:20260424T030000Z
DTSTAMP:20260423T160110Z
DTSTART:20260424T020000Z
LAST-MODIFIED:20250828T101046
SEQUENCE:0
STATUS:CONFIRMED
SUMMARY:Community Meeting - Board elections
TRANSP:TRANSPARENT
UID:143525@ourschoolpages.com
END:VEVENT
END:VCALENDAR
