BEGIN:VCALENDAR
METHOD:PUBLISH
PRODID:-//github.com/rianjs/ical.net//NONSGML ical.net 4.0//EN
VERSION:2.0
X-WR-CALNAME:Discovery Community School
BEGIN:VEVENT
CREATED:20250828T101214
DESCRIPTION:Parents arrive at 1:55 to set up. Track starts at 2:10. Track 
 ends at 3:10. Friday.specials@dcscg.org
DTEND:20260501T221000Z
DTSTAMP:20260423T173205Z
DTSTART:20260501T205500Z
LAST-MODIFIED:20250828T101214
SEQUENCE:0
STATUS:CONFIRMED
SUMMARY:Friday Specials
TRANSP:TRANSPARENT
UID:143528@ourschoolpages.com
END:VEVENT
END:VCALENDAR
